BEGIN:VCALENDAR
VERSION:2.0
PRODID:-//pcclt.org//NONSGML kigkonsult.se iCalcreator 2.30.10//
CALSCALE:GREGORIAN
METHOD:PUBLISH
UID:c3d850f2-e43f-4a8e-9f7e-6ea4937a79df
X-WR-CALDESC:
X-WR-RELCALID:9319bf9a0ca9f143b2a95d143ccdfd36
X-WR-TIMEZONE:America/Chicago
BEGIN:VTIMEZONE
TZID:America/Chicago
BEGIN:STANDARD
TZNAME:CST
DTSTART:20231105T020000
TZOFFSETFROM:-0500
TZOFFSETTO:-0600
RDATE:20241103T020000
END:STANDARD
BEGIN:DAYLIGHT
TZNAME:CDT
DTSTART:20240310T020000
TZOFFSETFROM:-0600
TZOFFSETTO:-0500
RDATE:20250309T020000
END:DAYLIGHT
END:VTIMEZONE
BEGIN:VEVENT
UID:fd20443d-82ab-4296-8ddf-68692b4a5194
DTSTAMP:20260423T185311Z
DESCRIPTION:
DTSTART;TZID=America/Chicago:20240423T080000
DTEND;TZID=America/Chicago:20240423T180000
LOCATION:Omni Tucson National Golf Resort and Spa\, 2727 W Club Dr\, Tucson
 \, AZ 85742 US
SUMMARY:Pima County Community Land Trust Golf Tournament
END:VEVENT
END:VCALENDAR
