BEGIN:VCALENDAR
VERSION:2.0
PRODID:-//pcclt.org//NONSGML kigkonsult.se iCalcreator 2.30.10//
CALSCALE:GREGORIAN
METHOD:PUBLISH
UID:06ae5fc9-833a-4e7a-9c8f-a0d68ac2ffbf
X-WR-CALDESC:Join us on Saturday\, June 8\, from 9 am - 12 pm\n\nat El Rio 
 Neighborhood Center \n\n1390 W. Speedway\n\n2nd Annual PCCLT Homeownership
  Fair\n\nLearn about Affordable Homeownership\n\nMortgage Options\, Down P
 ayment Assistance\n\nHousing Counseling\, Financial Planning\n\nHome Maint
 enance and Repairs\n\nCommunity Resources Organizations Joining Us\n\nFood
 \, Raffles\, Fun.
X-WR-RELCALID:31ea1074fa9b2e8ee1968197c3d3a043
X-WR-TIMEZONE:America/Phoenix
BEGIN:VTIMEZONE
TZID:America/Phoenix
BEGIN:STANDARD
TZNAME:MST
DTSTART:20220907T070000
TZOFFSETFROM:+0000
TZOFFSETTO:-0700
END:STANDARD
END:VTIMEZONE
BEGIN:VEVENT
UID:84e99e9a-a091-4aa2-b551-33e940b58082
DTSTAMP:20260423T150646Z
DESCRIPTION:Join us on Saturday\, June 8\, from 9 am - 12 pm\n\nat El Rio N
 eighborhood Center \n\n1390 W. Speedway\n\n2nd Annual PCCLT Homeownership 
 Fair\n\nLearn about Affordable Homeownership\n\nMortgage Options\, Down Pa
 yment Assistance\n\nHousing Counseling\, Financial Planning\n\nHome Mainte
 nance and Repairs\n\nCommunity Resources Organizations Joining Us\n\nFood\
 , Raffles\, Fun.
DTSTART;TZID=America/Phoenix:20240608T080000
DTEND;TZID=America/Phoenix:20240608T110000
LOCATION:El Rio Neighborhood Center\, 1390 W. Speedway\, Tucson\, AZ 85745 
 US
SUMMARY:2nd Annual Homeownership Fair
END:VEVENT
END:VCALENDAR
