BEGIN:VCALENDAR
VERSION:2.0
PRODID:-//pcclt.org//NONSGML kigkonsult.se iCalcreator 2.30.10//
CALSCALE:GREGORIAN
METHOD:PUBLISH
UID:87acf7e5-6c24-4398-ba1e-5d6b007c1a77
X-WR-CALDESC:Join Pima County Community Land Trust for pizza\, games\, and 
 learning! \n\nVisit our table to learn about our mission and enjoy our fun
  “Build Your Financial Pizza” activity. Parents and kids can discover budg
 eting basics together while enjoying a night out and supporting a good cau
 se.\n\nDon't miss it! Be sure to register below to be entered in our raffl
 e.
X-WR-RELCALID:10fb7ef6b8a7ec4cda779be46dd98760
X-WR-TIMEZONE:America/Denver
BEGIN:VTIMEZONE
TZID:America/Denver
BEGIN:STANDARD
TZNAME:MST
DTSTART:20231105T020000
TZOFFSETFROM:-0600
TZOFFSETTO:-0700
RDATE:20241103T020000
RDATE:20251102T020000
END:STANDARD
BEGIN:DAYLIGHT
TZNAME:MDT
DTSTART:20240310T020000
TZOFFSETFROM:-0700
TZOFFSETTO:-0600
RDATE:20250309T020000
RDATE:20260308T020000
END:DAYLIGHT
END:VTIMEZONE
BEGIN:VEVENT
UID:da9d33ec-c9a6-4ec9-9523-0078b54b8665
DTSTAMP:20260423T090054Z
DESCRIPTION:Join Pima County Community Land Trust for pizza\, games\, and l
 earning! \n\nVisit our table to learn about our mission and enjoy our fun 
 “Build Your Financial Pizza” activity. Parents and kids can discover budge
 ting basics together while enjoying a night out and supporting a good caus
 e.\n\nDon't miss it! Be sure to register below to be entered in our raffle
 .
DTSTART;TZID=America/Denver:20240930T160000
DTEND;TZID=America/Denver:20240930T190000
LOCATION:3717 S. Ajo Way\, Tucson\, AZ 85713 US
SUMMARY:Community Night-Fundraiser @ Peter Piper Pizza 12th/Ajo
END:VEVENT
END:VCALENDAR
