BEGIN:VCALENDAR
VERSION:2.0
PRODID:-//pcclt.org//NONSGML kigkonsult.se iCalcreator 2.30.10//
CALSCALE:GREGORIAN
METHOD:PUBLISH
UID:98316e33-a4d9-499d-8c0e-2cdabd9162ed
X-WR-CALDESC:
X-WR-RELCALID:49ec877a9c88328825790558f326a733
X-WR-TIMEZONE:America/Denver
BEGIN:VTIMEZONE
TZID:America/Denver
BEGIN:STANDARD
TZNAME:MST
DTSTART:20231105T020000
TZOFFSETFROM:-0600
TZOFFSETTO:-0700
RDATE:20241103T020000
RDATE:20251102T020000
END:STANDARD
BEGIN:DAYLIGHT
TZNAME:MDT
DTSTART:20240310T020000
TZOFFSETFROM:-0700
TZOFFSETTO:-0600
RDATE:20250309T020000
RDATE:20260308T020000
END:DAYLIGHT
END:VTIMEZONE
BEGIN:VEVENT
UID:6d99dff6-a47b-4699-92ab-88167c5e60d7
DTSTAMP:20260423T052033Z
DESCRIPTION:
DTSTART;TZID=America/Denver:20241102T090000
DTEND;TZID=America/Denver:20241102T140000
LOCATION:1935 S. Columbus Blvd\, Tucson\, AZ 85711 US
SUMMARY:Feria de recursos de vivienda
END:VEVENT
END:VCALENDAR
