BEGIN:VCALENDAR
VERSION:2.0
PRODID:-//pcclt.org//NONSGML kigkonsult.se iCalcreator 2.30.10//
CALSCALE:GREGORIAN
METHOD:PUBLISH
UID:4b37129b-5646-4d0c-99cc-bb4c40791dc1
X-WR-CALDESC:
X-WR-RELCALID:43db7b5e1156d490ca5254c2fc6f22a3
X-WR-TIMEZONE:America/Denver
BEGIN:VTIMEZONE
TZID:America/Denver
BEGIN:STANDARD
TZNAME:MST
DTSTART:20231105T020000
TZOFFSETFROM:-0600
TZOFFSETTO:-0700
RDATE:20241103T020000
RDATE:20251102T020000
END:STANDARD
BEGIN:DAYLIGHT
TZNAME:MDT
DTSTART:20240310T020000
TZOFFSETFROM:-0700
TZOFFSETTO:-0600
RDATE:20250309T020000
RDATE:20260308T020000
END:DAYLIGHT
END:VTIMEZONE
BEGIN:VEVENT
UID:a797e304-b056-4cb1-b85b-bdc06911a2fc
DTSTAMP:20260423T051914Z
DESCRIPTION:
DTSTART;TZID=America/Denver:20241102T090000
DTEND;TZID=America/Denver:20241102T140000
LOCATION:1935 S. Columbus Blvd\, Tucson\, AZ 85711 US
SUMMARY:Housing Resource Fair
END:VEVENT
END:VCALENDAR
