BEGIN:VCALENDAR
VERSION:2.0
PRODID:-//pcclt.org//NONSGML kigkonsult.se iCalcreator 2.30.10//
CALSCALE:GREGORIAN
METHOD:PUBLISH
UID:9ea95135-9f28-46a0-8e0a-09d18a8c26ce
X-WR-CALDESC:Falling Into Homeownership: Prepare\, Purchase\, Prosper\n\nAr
 e you ready to take the leap into homeownership but don’t know where to st
 art? Our 'Falling Into Homeownership' workshop series is designed to guide
  first-time buyers through every step of the homebuying process\, from fin
 ancial preparedness to settling into your dream home—all with a fun fall t
 wist!\n\nOver the course of four interactive sessions\, you’ll learn how t
 o:\n~Assess your financial readiness and create a personalized budget.\n~E
 xplore mortgage options** and choose the best loan for you.\n~Navigate the
  homebuying process\, from searching for properties to making offers.\n~Pr
 epare for homeownership** with tips on closing\, moving\, and long-term ma
 intenance.\n\nEach session features hands-on activities\, games\, and expe
 rt guest speakers who will help you make informed decisions on your homeow
 nership journey—without the spooky surprises!\n\nWorkshop Dates and Topics
 :\n~October 22: Rake in the Savings: Financial Readiness for Homeownership
 \n~October 29: Fall Into the Right Loan: Mortgage Options Uncovered\n~Nove
 mber 5: Harvest Your Dream Home: Navigating the Buying Process\n~November 
 12: Home Sweet (Pumpkin-Spiced) Home: Preparing for Ownership\n\nThe Senti
 nel Building\, 320 N. Commerce Park Loop\, Tucson\, AZ 85745 \nTime: 6-7:3
 0 PM\n\nDon’t let homeownership feel like a mystery. Join us and take the 
 first step toward making your dream a reality this fall!
X-WR-RELCALID:5086e18f9111dabcb9fdc4d81ff44ab5
X-WR-TIMEZONE:America/Denver
BEGIN:VTIMEZONE
TZID:America/Denver
BEGIN:STANDARD
TZNAME:MST
DTSTART:20241103T020000
TZOFFSETFROM:-0600
TZOFFSETTO:-0700
RDATE:20251102T020000
END:STANDARD
BEGIN:DAYLIGHT
TZNAME:MDT
DTSTART:20240310T020000
TZOFFSETFROM:-0700
TZOFFSETTO:-0600
RDATE:20250309T020000
RDATE:20260308T020000
END:DAYLIGHT
END:VTIMEZONE
BEGIN:VEVENT
UID:a7b7167e-e933-43f7-8788-ff7c572860b2
DTSTAMP:20260423T052020Z
DESCRIPTION:Falling Into Homeownership: Prepare\, Purchase\, Prosper\n\nAre
  you ready to take the leap into homeownership but don’t know where to sta
 rt? Our 'Falling Into Homeownership' workshop series is designed to guide 
 first-time buyers through every step of the homebuying process\, from fina
 ncial preparedness to settling into your dream home—all with a fun fall tw
 ist!\n\nOver the course of four interactive sessions\, you’ll learn how to
 :\n~Assess your financial readiness and create a personalized budget.\n~Ex
 plore mortgage options** and choose the best loan for you.\n~Navigate the 
 homebuying process\, from searching for properties to making offers.\n~Pre
 pare for homeownership** with tips on closing\, moving\, and long-term mai
 ntenance.\n\nEach session features hands-on activities\, games\, and exper
 t guest speakers who will help you make informed decisions on your homeown
 ership journey—without the spooky surprises!\n\nWorkshop Dates and Topics:
 \n~October 22: Rake in the Savings: Financial Readiness for Homeownership
 \n~October 29: Fall Into the Right Loan: Mortgage Options Uncovered\n~Nove
 mber 5: Harvest Your Dream Home: Navigating the Buying Process\n~November 
 12: Home Sweet (Pumpkin-Spiced) Home: Preparing for Ownership\n\nThe Senti
 nel Building\, 320 N. Commerce Park Loop\, Tucson\, AZ 85745 \nTime: 6-7:3
 0 PM\n\nDon’t let homeownership feel like a mystery. Join us and take the 
 first step toward making your dream a reality this fall!
DTSTART;TZID=America/Denver:20241112T180000
DTEND;TZID=America/Denver:20241112T193000
LOCATION:320 N. Commerce Park Loop\, Tucson\, AZ 85713 US
SUMMARY:Falling Into Homeownership: Prepare\, Purchase\, Prosper (Homebuyer
  Workshops-Week 4 of 4)
END:VEVENT
END:VCALENDAR
