BEGIN:VCALENDAR
VERSION:2.0
PRODID:-//pcclt.org//NONSGML kigkonsult.se iCalcreator 2.30.10//
CALSCALE:GREGORIAN
METHOD:PUBLISH
UID:6b32831a-f456-43f9-8022-419f26311ae3
X-WR-CALDESC:TAR Housing Fair\, Saturday\, November 16th\, 9am - 3pm at Rei
 d Park Zoo. \n\nEverything you wanted to know about:\nSteps to Buying a Ho
 me in Today’s Market\nMortgage/Rental Assistance\nDown Payment/Closing Cos
 t Assistance\nHome Services\, And Much More!
X-WR-RELCALID:e6514c89cec049e99358b071665cd980
X-WR-TIMEZONE:America/Denver
BEGIN:VTIMEZONE
TZID:America/Denver
BEGIN:STANDARD
TZNAME:MST
DTSTART:20241103T020000
TZOFFSETFROM:-0600
TZOFFSETTO:-0700
RDATE:20251102T020000
END:STANDARD
BEGIN:DAYLIGHT
TZNAME:MDT
DTSTART:20240310T020000
TZOFFSETFROM:-0700
TZOFFSETTO:-0600
RDATE:20250309T020000
RDATE:20260308T020000
END:DAYLIGHT
END:VTIMEZONE
BEGIN:VEVENT
UID:ba46a6b3-f51d-4fb8-9128-c294ec4680b3
DTSTAMP:20260423T053149Z
DESCRIPTION:TAR Housing Fair\, Saturday\, November 16th\, 9am - 3pm at Reid
  Park Zoo. \n\nEverything you wanted to know about:\nSteps to Buying a Hom
 e in Today’s Market\nMortgage/Rental Assistance\nDown Payment/Closing Cost
  Assistance\nHome Services\, And Much More!
DTSTART;TZID=America/Denver:20241116T090000
DTEND;TZID=America/Denver:20241116T150000
LOCATION:3400 E. Zoo Ct\, Tucson\, AZ 85716 US
SUMMARY:TAR Housing Fair
END:VEVENT
END:VCALENDAR
