BEGIN:VCALENDAR
VERSION:2.0
PRODID:-//pcclt.org//NONSGML kigkonsult.se iCalcreator 2.30.10//
CALSCALE:GREGORIAN
METHOD:PUBLISH
UID:dbe5131d-fa13-4104-a1ac-d6f0aba3aeb8
X-WR-CALDESC:Shining a Light on Solar: A Homeowner’s Guide to Solar Energy\
 , Best Practices\, and Affordable Financing\n \nJoin us for an informative
  and empowering workshop on solar energy tailored specifically for homeown
 ers. Hosted by SERI and Solar Maven\, this session will provide an in-dept
 h look at how to make smart decisions when transitioning to solar energy. 
 You'll gain a solid understanding of solar technology basics\, learn best 
 practices for maximizing energy savings\, and discover how to avoid common
  pitfalls and scams in the solar industry. Our experts will also guide you
  through various financing options to make solar energy an affordable and 
 accessible choice for your home. Whether you're just starting to explore s
 olar power or ready to make the switch\, this workshop offers practical to
 ols and resources to help you navigate the process confidently. \n\nTopics
  Covered:\n- Basics of Solar Energy & How It Works for Homes\n- Top Tips f
 or Choosing the Right Solar Installer\n- Spotting & Avoiding Solar Scams\n
 - Exploring Grants\, Tax Credits\, and Affordable Financing Options\n\nJoi
 n us to learn how you can reduce your energy costs\, increase your propert
 y’s value\, and contribute to a cleaner environment—all while keeping your
  finances intact!\n\nThe Sentinel Building\, 320 N. Commerce Park Loop\, T
 ucson\, AZ 85745 \nTime: 6-7:30 PM\n
X-WR-RELCALID:bd67f3cbe8dc23faddedbc87972c986a
X-WR-TIMEZONE:America/Denver
BEGIN:VTIMEZONE
TZID:America/Denver
BEGIN:STANDARD
TZNAME:MST
DTSTART:20241103T020000
TZOFFSETFROM:-0600
TZOFFSETTO:-0700
RDATE:20251102T020000
END:STANDARD
BEGIN:DAYLIGHT
TZNAME:MDT
DTSTART:20240310T020000
TZOFFSETFROM:-0700
TZOFFSETTO:-0600
RDATE:20250309T020000
RDATE:20260308T020000
END:DAYLIGHT
END:VTIMEZONE
BEGIN:VEVENT
UID:67b470e4-fe48-4b5d-bc6b-cc68529dcafc
DTSTAMP:20260423T050948Z
DESCRIPTION:Shining a Light on Solar: A Homeowner’s Guide to Solar Energy\,
  Best Practices\, and Affordable Financing\n \nJoin us for an informative 
 and empowering workshop on solar energy tailored specifically for homeowne
 rs. Hosted by SERI and Solar Maven\, this session will provide an in-depth
  look at how to make smart decisions when transitioning to solar energy. Y
 ou'll gain a solid understanding of solar technology basics\, learn best p
 ractices for maximizing energy savings\, and discover how to avoid common 
 pitfalls and scams in the solar industry. Our experts will also guide you 
 through various financing options to make solar energy an affordable and a
 ccessible choice for your home. Whether you're just starting to explore so
 lar power or ready to make the switch\, this workshop offers practical too
 ls and resources to help you navigate the process confidently. \n\nTopics 
 Covered:\n- Basics of Solar Energy & How It Works for Homes\n- Top Tips fo
 r Choosing the Right Solar Installer\n- Spotting & Avoiding Solar Scams\n-
  Exploring Grants\, Tax Credits\, and Affordable Financing Options\n\nJoin
  us to learn how you can reduce your energy costs\, increase your property
 ’s value\, and contribute to a cleaner environment—all while keeping your 
 finances intact!\n\nThe Sentinel Building\, 320 N. Commerce Park Loop\, Tu
 cson\, AZ 85745 \nTime: 6-7:30 PM\n
DTSTART;TZID=America/Denver:20241118T180000
DTEND;TZID=America/Denver:20241118T193000
LOCATION:320 N. Commerce Park Loop\, Tucson\, AZ 85713 US
SUMMARY:Solar Energy Education for Homeowners
END:VEVENT
END:VCALENDAR
