BEGIN:VCALENDAR
VERSION:2.0
PRODID:-//pcclt.org//NONSGML kigkonsult.se iCalcreator 2.30.10//
CALSCALE:GREGORIAN
METHOD:PUBLISH
UID:1f0f0382-6de3-47ba-b197-4d946d01a066
X-WR-CALDESC:Join us for a dynamic one-hour 'cafecito' gathering to connect
  with fellow land trust professionals\, share updates\, explore collaborat
 ion opportunities\, and strengthen our collective impact on the community!
X-WR-RELCALID:497045656c8e11509bf702cd005d3c52
X-WR-TIMEZONE:America/Denver
BEGIN:VTIMEZONE
TZID:America/Denver
BEGIN:STANDARD
TZNAME:MST
DTSTART:20241103T020000
TZOFFSETFROM:-0600
TZOFFSETTO:-0700
RDATE:20251102T020000
END:STANDARD
BEGIN:DAYLIGHT
TZNAME:MDT
DTSTART:20240310T020000
TZOFFSETFROM:-0700
TZOFFSETTO:-0600
RDATE:20250309T020000
RDATE:20260308T020000
END:DAYLIGHT
END:VTIMEZONE
BEGIN:VEVENT
UID:c153763c-d5a3-438f-b639-dbec031875d9
DTSTAMP:20260423T053005Z
DESCRIPTION:Join us for a dynamic one-hour 'cafecito' gathering to connect 
 with fellow land trust professionals\, share updates\, explore collaborati
 on opportunities\, and strengthen our collective impact on the community!
DTSTART;TZID=America/Denver:20241119T093000
DTEND;TZID=America/Denver:20241119T103000
LOCATION:1935 S. Columbus Blvd\, Tucson\, AZ 85711 US
SUMMARY:Cafecito Networking Event
END:VEVENT
END:VCALENDAR
