BEGIN:VCALENDAR
VERSION:2.0
PRODID:-//pcclt.org//NONSGML kigkonsult.se iCalcreator 2.30.10//
CALSCALE:GREGORIAN
METHOD:PUBLISH
UID:349200ef-5fb2-4f98-8243-758871f24b3f
X-WR-CALDESC:Although illegal since 1968\, racist covenants are still attac
 hed to 1 in 3 Tucson homes. Listen to the stories of impacted Tucsonans an
 d learn how to amend your deed.
X-WR-RELCALID:3740d4dd75e479c53d252a1c311bbcfa
X-WR-TIMEZONE:America/Denver
BEGIN:VTIMEZONE
TZID:America/Denver
BEGIN:STANDARD
TZNAME:MST
DTSTART:20241103T020000
TZOFFSETFROM:-0600
TZOFFSETTO:-0700
RDATE:20251102T020000
END:STANDARD
BEGIN:DAYLIGHT
TZNAME:MDT
DTSTART:20240310T020000
TZOFFSETFROM:-0700
TZOFFSETTO:-0600
RDATE:20250309T020000
RDATE:20260308T020000
END:DAYLIGHT
END:VTIMEZONE
BEGIN:VEVENT
UID:3f631f58-6b08-4563-829f-20fbb5a44b7d
DTSTAMP:20260423T031840Z
DESCRIPTION:Although illegal since 1968\, racist covenants are still attach
 ed to 1 in 3 Tucson homes. Listen to the stories of impacted Tucsonans and
  learn how to amend your deed.
DTSTART;TZID=America/Denver:20241206T180000
DTEND;TZID=America/Denver:20241206T193000
LOCATION:320 N. Commerce Park Loop\, Tucson\, AZ 85710 US
SUMMARY:Racist Covenants: Their History\, Legacy\, & How to Remove Them fro
 m Your Property
END:VEVENT
END:VCALENDAR
