BEGIN:VCALENDAR
VERSION:2.0
PRODID:-//pcclt.org//NONSGML kigkonsult.se iCalcreator 2.30.10//
CALSCALE:GREGORIAN
METHOD:PUBLISH
UID:0d93680b-73ea-4668-bc90-18a03e74f661
X-WR-CALDESC:Join us for a special Open House to explore TWO beautiful home
 s now available through our affordable homeownership program. This is your
  chance to learn about our mission\, how the community land trust program 
 works\, and how we can help make homeownership a reality for you!
X-WR-RELCALID:440ea8585a76ad43a86ca1eb998f7030
X-WR-TIMEZONE:America/Denver
BEGIN:VTIMEZONE
TZID:America/Denver
BEGIN:STANDARD
TZNAME:MST
DTSTART:20241103T020000
TZOFFSETFROM:-0600
TZOFFSETTO:-0700
RDATE:20251102T020000
END:STANDARD
BEGIN:DAYLIGHT
TZNAME:MDT
DTSTART:20240310T020000
TZOFFSETFROM:-0700
TZOFFSETTO:-0600
RDATE:20250309T020000
RDATE:20260308T020000
END:DAYLIGHT
END:VTIMEZONE
BEGIN:VEVENT
UID:f785dc0c-ab3f-4593-9fd2-02318d988b2c
DTSTAMP:20260422T224534Z
DESCRIPTION:Join us for a special Open House to explore TWO beautiful homes
  now available through our affordable homeownership program. This is your 
 chance to learn about our mission\, how the community land trust program w
 orks\, and how we can help make homeownership a reality for you!
DTSTART;TZID=America/Denver:20250308T100000
DTEND;TZID=America/Denver:20250308T130000
LOCATION:6290 S. Avenue de la Chandelle\, Tucson\, AZ 85746 US
SUMMARY:Open Houses
END:VEVENT
END:VCALENDAR
