BEGIN:VCALENDAR
VERSION:2.0
PRODID:-//pcclt.org//NONSGML kigkonsult.se iCalcreator 2.30.10//
CALSCALE:GREGORIAN
METHOD:PUBLISH
UID:eff8469b-8a70-4da3-ac4e-e46165fba5e5
X-WR-CALDESC:Spring into Homeownership!\n\nAs the season of renewal begins\
 , it’s the perfect time to take fresh steps toward homeownership! This thr
 ee-week series will help first-time buyers prepare financially\, explore m
 ortgage options\, and navigate the homebuying process with confidence. Eac
 h session includes expert insights\, hands-on activities\, and practical t
 ools to help you bloom into a successful homeowner.\n\nOver the course of 
 three interactive sessions\, you’ll learn how to:\n~Assess your financial 
 readiness and create a personalized budget.\n~Explore mortgage options and
  choose the best loan for you.\n~Navigate the homebuying process\, from se
 arching for properties to making offers.\n~Prepare for homeownership with 
 tips on closing\, moving\, and long-term maintenance.\n\nEach session feat
 ures hands-on activities\, games\, and expert guest speakers who will help
  you make informed decisions on your homeownership journey.\n\nWorkshop Da
 tes and Topics:\n~March 12: Planting the Seeds: Financial Readiness for Ho
 meownership\n~March 19: Fall Into the Right Loan: Mortgage Options Uncover
 ed\n~March 26: Blooming Into Homeownership: The Homebuying & Closing Proce
 ss\n\nMarana Food Bank\, 11734 W Grier Rd.\, Marana\, AZ 85653\nTime: 10 A
 M- 12 PM\n\nJoin us this spring and take the first steps toward making you
 r dream home a reality!\n
X-WR-RELCALID:99b5924401a55260b6b2fe427025e7f9
X-WR-TIMEZONE:America/Denver
BEGIN:VTIMEZONE
TZID:America/Denver
BEGIN:STANDARD
TZNAME:MST
DTSTART:20241103T020000
TZOFFSETFROM:-0600
TZOFFSETTO:-0700
RDATE:20251102T020000
END:STANDARD
BEGIN:DAYLIGHT
TZNAME:MDT
DTSTART:20250309T020000
TZOFFSETFROM:-0700
TZOFFSETTO:-0600
RDATE:20260308T020000
END:DAYLIGHT
END:VTIMEZONE
BEGIN:VEVENT
UID:d6c51ec6-e244-4e34-93ae-99cc71e0c5f3
DTSTAMP:20260422T222738Z
DESCRIPTION:Spring into Homeownership!\n\nAs the season of renewal begins\,
  it’s the perfect time to take fresh steps toward homeownership! This thre
 e-week series will help first-time buyers prepare financially\, explore mo
 rtgage options\, and navigate the homebuying process with confidence. Each
  session includes expert insights\, hands-on activities\, and practical to
 ols to help you bloom into a successful homeowner.\n\nOver the course of t
 hree interactive sessions\, you’ll learn how to:\n~Assess your financial r
 eadiness and create a personalized budget.\n~Explore mortgage options and 
 choose the best loan for you.\n~Navigate the homebuying process\, from sea
 rching for properties to making offers.\n~Prepare for homeownership with t
 ips on closing\, moving\, and long-term maintenance.\n\nEach session featu
 res hands-on activities\, games\, and expert guest speakers who will help 
 you make informed decisions on your homeownership journey.\n\nWorkshop Dat
 es and Topics:\n~March 12: Planting the Seeds: Financial Readiness for Hom
 eownership\n~March 19: Fall Into the Right Loan: Mortgage Options Uncovere
 d\n~March 26: Blooming Into Homeownership: The Homebuying & Closing Proces
 s\n\nMarana Food Bank\, 11734 W Grier Rd.\, Marana\, AZ 85653\nTime: 10 AM
 - 12 PM\n\nJoin us this spring and take the first steps toward making your
  dream home a reality!\n
DTSTART;TZID=America/Denver:20250312T100000
DTEND;TZID=America/Denver:20250312T140000
LOCATION:11734 W. Grier Rd. \, Marana\, AZ 85653 US
SUMMARY:Spring Into Homeownership: A Fresh Start for First-Time Buyers
END:VEVENT
END:VCALENDAR
