BEGIN:VCALENDAR
VERSION:2.0
PRODID:-//pcclt.org//NONSGML kigkonsult.se iCalcreator 2.30.10//
CALSCALE:GREGORIAN
METHOD:PUBLISH
UID:f02b25f4-2b1f-4682-a035-6d95cafa67c3
X-WR-CALDESC:Join Us at the Amphi Neighborhood Association Spring Resource 
 Fair & Celebration! \n\nCome out and celebrate spring with the Amphi Neigh
 borhood Association at the Spring Neighborhood Resource Fair & Celebration
 ! This family-friendly event will feature local organizations\, community 
 resources\, and fun activities for all ages.  \n\nPima County Community La
 nd Trust will have a table set up\, and we’d love for you to stop by and s
 ay hello! Learn about our affordable homeownership opportunities\, upcomin
 g workshops\, and how we’re working to create lasting housing solutions in
  our community. Whether you're interested in homeownership\, looking for r
 esources\, or just want to connect\, we’re here to help!  \n\nMark your ca
 lendar and bring your neighbors—let’s make this a great community gatherin
 g!
X-WR-RELCALID:b457f696b2b5a83282379e1941a236ff
X-WR-TIMEZONE:America/Denver
BEGIN:VTIMEZONE
TZID:America/Denver
BEGIN:STANDARD
TZNAME:MST
DTSTART:20241103T020000
TZOFFSETFROM:-0600
TZOFFSETTO:-0700
RDATE:20251102T020000
END:STANDARD
BEGIN:DAYLIGHT
TZNAME:MDT
DTSTART:20250309T020000
TZOFFSETFROM:-0700
TZOFFSETTO:-0600
RDATE:20260308T020000
END:DAYLIGHT
END:VTIMEZONE
BEGIN:VEVENT
UID:65cea433-d92a-4d25-a5c2-591b08f0f88f
DTSTAMP:20260422T222339Z
DESCRIPTION:Join Us at the Amphi Neighborhood Association Spring Resource F
 air & Celebration! \n\nCome out and celebrate spring with the Amphi Neighb
 orhood Association at the Spring Neighborhood Resource Fair & Celebration!
  This family-friendly event will feature local organizations\, community r
 esources\, and fun activities for all ages.  \n\nPima County Community Lan
 d Trust will have a table set up\, and we’d love for you to stop by and sa
 y hello! Learn about our affordable homeownership opportunities\, upcoming
  workshops\, and how we’re working to create lasting housing solutions in 
 our community. Whether you're interested in homeownership\, looking for re
 sources\, or just want to connect\, we’re here to help!  \n\nMark your cal
 endar and bring your neighbors—let’s make this a great community gathering
 !
DTSTART;TZID=America/Denver:20250315T090000
DTEND;TZID=America/Denver:20250315T120000
LOCATION:510 E. Navajo Rd\, Tucson\, AZ 85705\, Tucson\, AZ 85705 US
SUMMARY:Amphi Neighborhood Association Spring Resource Fair & Celebration
END:VEVENT
END:VCALENDAR
