BEGIN:VCALENDAR
VERSION:2.0
PRODID:-//pcclt.org//NONSGML kigkonsult.se iCalcreator 2.30.10//
CALSCALE:GREGORIAN
METHOD:PUBLISH
UID:0c8ff714-4825-4b76-a9f1-fd063f8361fd
X-WR-CALDESC:Meeting ID: 827 7093 2085\nPasscode: 636920\n
X-WR-RELCALID:c11be6d9f2ad248735461b5e09281e43
X-WR-TIMEZONE:America/Denver
BEGIN:VTIMEZONE
TZID:America/Denver
BEGIN:STANDARD
TZNAME:MST
DTSTART:20241103T020000
TZOFFSETFROM:-0600
TZOFFSETTO:-0700
RDATE:20251102T020000
END:STANDARD
BEGIN:DAYLIGHT
TZNAME:MDT
DTSTART:20250309T020000
TZOFFSETFROM:-0700
TZOFFSETTO:-0600
RDATE:20260308T020000
END:DAYLIGHT
END:VTIMEZONE
BEGIN:VEVENT
UID:59e6195b-7843-4576-9bf4-268a23953019
DTSTAMP:20260422T222151Z
DESCRIPTION:Meeting ID: 827 7093 2085\nPasscode: 636920\n
DTSTART;TZID=America/Denver:20250317T173000
DTEND;TZID=America/Denver:20250320T190000
LOCATION:https://us06web.zoom.us/j/82770932085?pwd=zEEvfXdu6uRW2RQI24n8kaw3
 U3OVhk.1
SUMMARY:Pima County Community Land Trust Virtual Info Session
END:VEVENT
END:VCALENDAR
