BEGIN:VCALENDAR
VERSION:2.0
PRODID:-//pcclt.org//NONSGML kigkonsult.se iCalcreator 2.30.10//
CALSCALE:GREGORIAN
METHOD:PUBLISH
UID:e8493a98-6b10-484a-a50a-f495b7327040
X-WR-CALDESC:Join us on Saturday\, August 16th\,\nfrom 10:00 AM to 12:00 PM
 \nfor an Open House at:\n7217 E Eastview Drive\, Tucson\, AZ 85710\n\nCome
  tour this beautiful home\, meet our team\, and learn how the Pima County 
 Community Land Trust makes homeownership more affordable and sustainable.
 \nWhether you’re ready to buy or just exploring options\, this is a great 
 opportunity to see if our program is right for you.\n\nWe look forward to 
 seeing you there!\n
X-WR-RELCALID:118d00d5120231bbcbcd3325d0bb9ab7
X-WR-TIMEZONE:America/Denver
BEGIN:VTIMEZONE
TZID:America/Denver
BEGIN:STANDARD
TZNAME:MST
DTSTART:20241103T020000
TZOFFSETFROM:-0600
TZOFFSETTO:-0700
RDATE:20251102T020000
RDATE:20261101T020000
END:STANDARD
BEGIN:DAYLIGHT
TZNAME:MDT
DTSTART:20250309T020000
TZOFFSETFROM:-0700
TZOFFSETTO:-0600
RDATE:20260308T020000
END:DAYLIGHT
END:VTIMEZONE
BEGIN:VEVENT
UID:ef0eb5e0-4f3c-4d0b-a0b9-793f0a2080cb
DTSTAMP:20260422T124257Z
DESCRIPTION:Join us on Saturday\, August 16th\,\nfrom 10:00 AM to 12:00 PM
 \nfor an Open House at:\n7217 E Eastview Drive\, Tucson\, AZ 85710\n\nCome
  tour this beautiful home\, meet our team\, and learn how the Pima County 
 Community Land Trust makes homeownership more affordable and sustainable.
 \nWhether you’re ready to buy or just exploring options\, this is a great 
 opportunity to see if our program is right for you.\n\nWe look forward to 
 seeing you there!\n
DTSTART;TZID=America/Denver:20250816T100000
DTEND;TZID=America/Denver:20250816T120000
LOCATION:7217 E Eastview Drive\, Tucson\, AZ 85710\, Tucson\, AZ 85710 US
SUMMARY:PCCLT Open House
END:VEVENT
END:VCALENDAR
