BEGIN:VCALENDAR
VERSION:2.0
PRODID:-//pcclt.org//NONSGML kigkonsult.se iCalcreator 2.30.10//
CALSCALE:GREGORIAN
METHOD:PUBLISH
UID:33922730-7439-4184-b121-7ab0c260ad20
X-WR-CALDESC:Join us on Saturday\, August 23rd\nfrom 10:00 AM to 12:00 PM\n
 for an Open House at:\n3138 W. Avenida Isabel\, Tucson\, AZ 85746\n\nCome 
 tour this beautiful home\, meet our team\, and learn how the Pima County C
 ommunity Land Trust makes homeownership more affordable and sustainable.\n
 Whether you’re ready to buy or just exploring options\, this is a great op
 portunity to see if our program is right for you.\n\nWe look forward to se
 eing you there!\n
X-WR-RELCALID:9a2b627fb13959160a6d3da21896212d
X-WR-TIMEZONE:America/Denver
BEGIN:VTIMEZONE
TZID:America/Denver
BEGIN:STANDARD
TZNAME:MST
DTSTART:20241103T020000
TZOFFSETFROM:-0600
TZOFFSETTO:-0700
RDATE:20251102T020000
RDATE:20261101T020000
END:STANDARD
BEGIN:DAYLIGHT
TZNAME:MDT
DTSTART:20250309T020000
TZOFFSETFROM:-0700
TZOFFSETTO:-0600
RDATE:20260308T020000
END:DAYLIGHT
END:VTIMEZONE
BEGIN:VEVENT
UID:c0b78c61-d42d-4147-aae5-7aafd89fa9e4
DTSTAMP:20260422T125513Z
DESCRIPTION:Join us on Saturday\, August 23rd\nfrom 10:00 AM to 12:00 PM\nf
 or an Open House at:\n3138 W. Avenida Isabel\, Tucson\, AZ 85746\n\nCome t
 our this beautiful home\, meet our team\, and learn how the Pima County Co
 mmunity Land Trust makes homeownership more affordable and sustainable.\nW
 hether you’re ready to buy or just exploring options\, this is a great opp
 ortunity to see if our program is right for you.\n\nWe look forward to see
 ing you there!\n
DTSTART;TZID=America/Denver:20250823T100000
DTEND;TZID=America/Denver:20250823T120000
LOCATION:3138 W. Avenida Isabel\, Tucson\, AZ 85746 US
SUMMARY:PCCLT Open House
END:VEVENT
END:VCALENDAR
