BEGIN:VCALENDAR
VERSION:2.0
PRODID:-//pcclt.org//NONSGML kigkonsult.se iCalcreator 2.30.10//
CALSCALE:GREGORIAN
METHOD:PUBLISH
UID:0acaa019-49ac-4e71-b75f-78113dd77064
X-WR-CALDESC:PCCLT Virtual Workshop: Info Session & Introduction to Homebuy
 er Education\n\nJoin the Pima County Community Land Trust for a free\, liv
 e virtual workshop designed to help you take the first step toward homeown
 ership.\n\nIn this interactive session\, you will:\n\nLearn how the Commun
 ity Land Trust model works to make homeownership more affordable.\n\nDisco
 ver eligibility requirements and available resources.\n\nGet an introducti
 on to Homebuyer Education\, a HUD-approved course that prepares you for ev
 ery stage of the buying process.\n\nFind out how to complete your Homebuye
 r Education Certificate\, a requirement for many down payment assistance p
 rograms.\n\nWho should attend:\nAnyone interested in purchasing a home\, a
 ccessing affordable housing programs\, or learning more about PCCLT.\n\nDa
 te & Time: \nInformation Session: Wednesday\, 8/20 OR Wednesday\, 8/27 (5:
 30pm-7:30pm)\nHomebuyer Education: Wednesday\, 9/10 AND Wednesday\, 9/17 (
 5:30pm-7:30pm)\n\nLocation: Online via Microsoft Teams (link provided upon
  registration)\n\nCost: Free\n********************************************
 *************************************************************************
 \nTaller Virtual del PCCLT: Sesión Informativa e Introducción a la Educaci
 ón para Compradores de Vivienda\n\nÚnase al Fideicomiso de Tierras Comunit
 arias del Condado de Pima para un taller virtual gratuito y en vivo\, dise
 ñado para ayudarle a dar el primer paso hacia la propiedad de una vivienda
 .\n\nEn esta sesión interactiva\, usted:\n\nAprenderá cómo funciona el mod
 elo del Fideicomiso de Tierras Comunitarias para hacer que la propiedad de
  una vivienda sea más asequible.\n\nDescubrirá los requisitos de elegibili
 dad y los recursos disponibles.\n\nRecibirá una introducción a la Educació
 n para Compradores de Vivienda\, un curso aprobado por el HUD que lo prepa
 ra para cada etapa del proceso de compra.\n\nDescubra cómo completar su Ce
 rtificado de Educación para Compradores de Vivienda\, un requisito para mu
 chos programas de asistencia para el pago inicial.\n\n¿A quién va dirigido
 ?:\nCualquier persona interesada en comprar una vivienda\, acceder a progr
 amas de vivienda asequible o aprender más sobre el PCCLT.\n\nFecha y hora:
 \nSesión informativa: Miércoles 20/8 o 27/8 (17:30-19:30)\nEducación para 
 compradores de vivienda: Miércoles 10/9 y 17/9 (17:30-19:30)\n\nUbicación:
  En línea a través de Microsoft Teams (enlace proporcionado al registrarse
 )\n\nCosto: Gratuito
X-WR-RELCALID:e4364e4336045a251111affa03d236ca
X-WR-TIMEZONE:America/Denver
BEGIN:VTIMEZONE
TZID:America/Denver
BEGIN:STANDARD
TZNAME:MST
DTSTART:20241103T020000
TZOFFSETFROM:-0600
TZOFFSETTO:-0700
RDATE:20251102T020000
RDATE:20261101T020000
END:STANDARD
BEGIN:DAYLIGHT
TZNAME:MDT
DTSTART:20250309T020000
TZOFFSETFROM:-0700
TZOFFSETTO:-0600
RDATE:20260308T020000
END:DAYLIGHT
END:VTIMEZONE
BEGIN:VEVENT
UID:1de01f24-9403-47a2-974a-d758c2a7d916
DTSTAMP:20260422T125529Z
DESCRIPTION:PCCLT Virtual Workshop: Info Session & Introduction to Homebuye
 r Education\n\nJoin the Pima County Community Land Trust for a free\, live
  virtual workshop designed to help you take the first step toward homeowne
 rship.\n\nIn this interactive session\, you will:\n\nLearn how the Communi
 ty Land Trust model works to make homeownership more affordable.\n\nDiscov
 er eligibility requirements and available resources.\n\nGet an introductio
 n to Homebuyer Education\, a HUD-approved course that prepares you for eve
 ry stage of the buying process.\n\nFind out how to complete your Homebuyer
  Education Certificate\, a requirement for many down payment assistance pr
 ograms.\n\nWho should attend:\nAnyone interested in purchasing a home\, ac
 cessing affordable housing programs\, or learning more about PCCLT.\n\nDat
 e & Time: \nInformation Session: Wednesday\, 8/20 OR Wednesday\, 8/27 (5:3
 0pm-7:30pm)\nHomebuyer Education: Wednesday\, 9/10 AND Wednesday\, 9/17 (5
 :30pm-7:30pm)\n\nLocation: Online via Microsoft Teams (link provided upon 
 registration)\n\nCost: Free\n*********************************************
 ************************************************************************\n
 Taller Virtual del PCCLT: Sesión Informativa e Introducción a la Educación
  para Compradores de Vivienda\n\nÚnase al Fideicomiso de Tierras Comunitar
 ias del Condado de Pima para un taller virtual gratuito y en vivo\, diseña
 do para ayudarle a dar el primer paso hacia la propiedad de una vivienda.
 \n\nEn esta sesión interactiva\, usted:\n\nAprenderá cómo funciona el mode
 lo del Fideicomiso de Tierras Comunitarias para hacer que la propiedad de 
 una vivienda sea más asequible.\n\nDescubrirá los requisitos de elegibilid
 ad y los recursos disponibles.\n\nRecibirá una introducción a la Educación
  para Compradores de Vivienda\, un curso aprobado por el HUD que lo prepar
 a para cada etapa del proceso de compra.\n\nDescubra cómo completar su Cer
 tificado de Educación para Compradores de Vivienda\, un requisito para muc
 hos programas de asistencia para el pago inicial.\n\n¿A quién va dirigido?
 :\nCualquier persona interesada en comprar una vivienda\, acceder a progra
 mas de vivienda asequible o aprender más sobre el PCCLT.\n\nFecha y hora:
 \nSesión informativa: Miércoles 20/8 o 27/8 (17:30-19:30)\nEducación para 
 compradores de vivienda: Miércoles 10/9 y 17/9 (17:30-19:30)\n\nUbicación:
  En línea a través de Microsoft Teams (enlace proporcionado al registrarse
 )\n\nCosto: Gratuito
DTSTART;TZID=America/Denver:20250827T173000
DTEND;TZID=America/Denver:20250827T193000
LOCATION:This is a virtual event. All registered participants will be sent 
 an email confirmation and link to access this workshop. / Este es un event
 o virtual. Todos los participantes registrados recibirán un correo electró
 nico de confirmación y un enlace para acc
SUMMARY:Information Session & Introduction to Homebuyer Education/ Sesión i
 nformativa e introducción a la educación para compradores de vivienda
END:VEVENT
END:VCALENDAR
