BEGIN:VCALENDAR
VERSION:2.0
PRODID:-//pcclt.org//NONSGML kigkonsult.se iCalcreator 2.30.10//
CALSCALE:GREGORIAN
METHOD:PUBLISH
UID:68d86592-e63f-4ab3-b101-1db560f7a4f8
X-WR-CALDESC:Take the first step toward owning your home! Pima County Commu
 nity Land Trust offers a HUD-approved Homebuyer Education course designed 
 to guide you through every stage of the homebuying journey. Learn how to b
 udget\, improve your credit\, understand mortgages\, and maintain your hom
 e for years to come. Our goal is to give you the tools and confidence to a
 chieve successful\, sustainable homeownership. *Participants must attend b
 oth Week 1 and Week 2 sessions to receive full credit for the Homebuyer Ed
 ucation course.\n\n\n\n***************************************************
 ***************************************************************\n¡Da el pr
 imer paso hacia ser dueño de tu hogar! Pima County Community Land Trust of
 rece un curso de Educación para Compradores de Vivienda aprobado por HUD\,
  diseñado para guiarte en cada etapa del proceso de compra. Aprende cómo h
 acer un presupuesto\, mejorar tu crédito\, entender las hipotecas y manten
 er tu hogar por muchos años. Nuestro objetivo es brindarte las herramienta
 s y la confianza para lograr una propiedad de vivienda exitosa y sostenibl
 e.  *Los participantes deben asistir a las sesiones de la Semana 1 y la Se
 mana 2 para recibir el crédito completo del curso de Educación para Compra
 dores de Vivienda.
X-WR-RELCALID:7a17e403b9c56ecb4bba389b2728a634
X-WR-TIMEZONE:America/Denver
BEGIN:VTIMEZONE
TZID:America/Denver
BEGIN:STANDARD
TZNAME:MST
DTSTART:20241103T020000
TZOFFSETFROM:-0600
TZOFFSETTO:-0700
RDATE:20251102T020000
RDATE:20261101T020000
END:STANDARD
BEGIN:DAYLIGHT
TZNAME:MDT
DTSTART:20250309T020000
TZOFFSETFROM:-0700
TZOFFSETTO:-0600
RDATE:20260308T020000
END:DAYLIGHT
END:VTIMEZONE
BEGIN:VEVENT
UID:9fa34af1-0ac8-4ca5-bec9-25994c8f25b8
DTSTAMP:20260422T110812Z
DESCRIPTION:Take the first step toward owning your home! Pima County Commun
 ity Land Trust offers a HUD-approved Homebuyer Education course designed t
 o guide you through every stage of the homebuying journey. Learn how to bu
 dget\, improve your credit\, understand mortgages\, and maintain your home
  for years to come. Our goal is to give you the tools and confidence to ac
 hieve successful\, sustainable homeownership. *Participants must attend bo
 th Week 1 and Week 2 sessions to receive full credit for the Homebuyer Edu
 cation course.\n\n\n\n****************************************************
 **************************************************************\n¡Da el pri
 mer paso hacia ser dueño de tu hogar! Pima County Community Land Trust ofr
 ece un curso de Educación para Compradores de Vivienda aprobado por HUD\, 
 diseñado para guiarte en cada etapa del proceso de compra. Aprende cómo ha
 cer un presupuesto\, mejorar tu crédito\, entender las hipotecas y mantene
 r tu hogar por muchos años. Nuestro objetivo es brindarte las herramientas
  y la confianza para lograr una propiedad de vivienda exitosa y sostenible
 .  *Los participantes deben asistir a las sesiones de la Semana 1 y la Sem
 ana 2 para recibir el crédito completo del curso de Educación para Comprad
 ores de Vivienda.
DTSTART;TZID=America/Denver:20250910T173000
DTEND;TZID=America/Denver:20250910T193000
LOCATION:This is a virtual event. All registered participants will be sent 
 an email confirmation and link to access this workshop. / Este es un event
 o virtual. Todos los participantes registrados recibirán un correo electró
 nico de confirmación y un enlace para acc
SUMMARY:Virtual Homebuyer Education Workshop – Week 1/Taller Virtual de Edu
 cación para Compradores de Vivienda – Semana 1
END:VEVENT
END:VCALENDAR
