BEGIN:VCALENDAR
VERSION:2.0
PRODID:-//pcclt.org//NONSGML kigkonsult.se iCalcreator 2.30.10//
CALSCALE:GREGORIAN
METHOD:PUBLISH
UID:59867d91-470c-453f-ac6f-3b21916c386a
X-WR-CALDESC:
X-WR-RELCALID:2575df37c8dff0f951e32ee0b7f0cea8
X-WR-TIMEZONE:America/Denver
BEGIN:VTIMEZONE
TZID:America/Denver
BEGIN:STANDARD
TZNAME:MST
DTSTART:20241103T020000
TZOFFSETFROM:-0600
TZOFFSETTO:-0700
RDATE:20251102T020000
RDATE:20261101T020000
END:STANDARD
BEGIN:DAYLIGHT
TZNAME:MDT
DTSTART:20250309T020000
TZOFFSETFROM:-0700
TZOFFSETTO:-0600
RDATE:20260308T020000
RDATE:20270314T020000
END:DAYLIGHT
END:VTIMEZONE
BEGIN:VEVENT
UID:6b8389e2-0f61-4eb3-a3e2-e3e0c20a55c3
DTSTAMP:20260422T104405Z
DESCRIPTION:
DTSTART;TZID=America/Denver:20250930T113000
DTEND;TZID=America/Denver:20250930T130000
LOCATION:https://tucsonportal.ramcoams.net/Meetings/Registration/MeetingDet
 ails.aspx?mid=c7a3cb10-5388-f011-9cfd-00155d23444c
SUMMARY:For Realtors: Lunch & Learn: Expanding Housing Access Through Commu
 nity Land Trusts
END:VEVENT
END:VCALENDAR
