BEGIN:VCALENDAR
VERSION:2.0
PRODID:-//pcclt.org//NONSGML kigkonsult.se iCalcreator 2.30.10//
CALSCALE:GREGORIAN
METHOD:PUBLISH
UID:7a16f8e9-5047-469a-881b-1c0ef02bd826
X-WR-CALDESC:The holiday season is just around the corner—let’s make it mor
 e about HOME and less about hustle. Join Pima County Community Land Trust 
 (PCCLT) for a free virtual workshop on staying financially confident throu
 gh the holidays.\n\nWe’ll share practical tips to help you:\n- Create a ho
 liday spending plan you can stick to\n- Focus on meaningful moments over m
 aterial gifts\n- Explore creative\, low-cost ways to give and celebrate\n-
  Enter the new year without financial regret\n\nLet’s take the price tags 
 off quality time and rediscover the true reason for the season—together.\n
 \nFree to attend | Registration required\nWe are here to help—build your f
 inancial confidence before the holidays begin!
X-WR-RELCALID:08f4c044a490d6d4f8c4f928c8163367
X-WR-TIMEZONE:America/Denver
BEGIN:VTIMEZONE
TZID:America/Denver
BEGIN:STANDARD
TZNAME:MST
DTSTART:20251102T020000
TZOFFSETFROM:-0600
TZOFFSETTO:-0700
RDATE:20261101T020000
END:STANDARD
BEGIN:DAYLIGHT
TZNAME:MDT
DTSTART:20250309T020000
TZOFFSETFROM:-0700
TZOFFSETTO:-0600
RDATE:20260308T020000
RDATE:20270314T020000
END:DAYLIGHT
END:VTIMEZONE
BEGIN:VEVENT
UID:c7f74fdc-5bf6-4794-b060-2352697e7770
DTSTAMP:20260420T075036Z
DESCRIPTION:The holiday season is just around the corner—let’s make it more
  about HOME and less about hustle. Join Pima County Community Land Trust (
 PCCLT) for a free virtual workshop on staying financially confident throug
 h the holidays.\n\nWe’ll share practical tips to help you:\n- Create a hol
 iday spending plan you can stick to\n- Focus on meaningful moments over ma
 terial gifts\n- Explore creative\, low-cost ways to give and celebrate\n- 
 Enter the new year without financial regret\n\nLet’s take the price tags o
 ff quality time and rediscover the true reason for the season—together.\n
 \nFree to attend | Registration required\nWe are here to help—build your f
 inancial confidence before the holidays begin!
DTSTART;TZID=America/Denver:20251113T180000
DTEND;TZID=America/Denver:20251113T190000
LOCATION:https://lp.constantcontactpages.com/ev/reg/3523fmq
SUMMARY:Stay financially confident through the holidays
END:VEVENT
END:VCALENDAR
