BEGIN:VCALENDAR
VERSION:2.0
PRODID:-//pcclt.org//NONSGML kigkonsult.se iCalcreator 2.30.10//
CALSCALE:GREGORIAN
METHOD:PUBLISH
UID:e0d4cec5-01b1-45c6-a01e-8f17229618fb
X-WR-CALDESC:
X-WR-RELCALID:cec461fd7acce0c2a682fe6d389dd908
X-WR-TIMEZONE:America/Denver
BEGIN:VTIMEZONE
TZID:America/Denver
BEGIN:STANDARD
TZNAME:MST
DTSTART:20251102T020000
TZOFFSETFROM:-0600
TZOFFSETTO:-0700
RDATE:20261101T020000
END:STANDARD
BEGIN:DAYLIGHT
TZNAME:MDT
DTSTART:20250309T020000
TZOFFSETFROM:-0700
TZOFFSETTO:-0600
RDATE:20260308T020000
RDATE:20270314T020000
END:DAYLIGHT
END:VTIMEZONE
BEGIN:VEVENT
UID:d18ca8ef-f30f-4ea1-95e9-d331539f43ca
DTSTAMP:20260420T074222Z
DESCRIPTION:
DTSTART;TZID=America/Denver:20251115T090000
DTEND;TZID=America/Denver:20251115T150000
LOCATION:3400 E Zoo Ct.\, Tucson\, AZ 85716 US
SUMMARY:TAR Housing Fair
END:VEVENT
END:VCALENDAR
