BEGIN:VCALENDAR
VERSION:2.0
PRODID:-//pcclt.org//NONSGML kigkonsult.se iCalcreator 2.30.10//
CALSCALE:GREGORIAN
METHOD:PUBLISH
UID:9d88a8bd-b3fb-4669-b72d-33666018a33d
X-WR-CALDESC:Take the first step toward owning your home! Pima County Commu
 nity Land Trust offers a HUD-approved Homebuyer Education course designed 
 to guide you through every stage of the homebuying journey. Learn how to b
 udget\, improve your credit\, understand mortgages\, and maintain your hom
 e for years to come. Our goal is to give you the tools and confidence to a
 chieve successful\, sustainable homeownership. *Participants must attend b
 oth Week 1 and Week 2 sessions as well as Housing Counseling to receive fu
 ll credit for the Homebuyer Education course.
X-WR-RELCALID:be3dd87586099a710b52ec7f6694ac61
X-WR-TIMEZONE:America/Denver
BEGIN:VTIMEZONE
TZID:America/Denver
BEGIN:STANDARD
TZNAME:MST
DTSTART:20251102T020000
TZOFFSETFROM:-0600
TZOFFSETTO:-0700
RDATE:20261101T020000
END:STANDARD
BEGIN:DAYLIGHT
TZNAME:MDT
DTSTART:20250309T020000
TZOFFSETFROM:-0700
TZOFFSETTO:-0600
RDATE:20260308T020000
RDATE:20270314T020000
END:DAYLIGHT
END:VTIMEZONE
BEGIN:VEVENT
UID:2a92646a-50c7-4f93-8267-82f46ba58534
DTSTAMP:20260420T035901Z
DESCRIPTION:Take the first step toward owning your home! Pima County Commun
 ity Land Trust offers a HUD-approved Homebuyer Education course designed t
 o guide you through every stage of the homebuying journey. Learn how to bu
 dget\, improve your credit\, understand mortgages\, and maintain your home
  for years to come. Our goal is to give you the tools and confidence to ac
 hieve successful\, sustainable homeownership. *Participants must attend bo
 th Week 1 and Week 2 sessions as well as Housing Counseling to receive ful
 l credit for the Homebuyer Education course.
DTSTART;TZID=America/Denver:20260113T173000
DTEND;TZID=America/Denver:20260113T200000
LOCATION:https://lp.constantcontactpages.com/ev/reg/ss3wqz4
SUMMARY:Virtual Homebuyer Education Workshop – Week 1/Taller Virtual de Edu
 cación para Compradores de Vivienda – Semana 1
END:VEVENT
END:VCALENDAR
