BEGIN:VCALENDAR
VERSION:2.0
PRODID:-//pcclt.org//NONSGML kigkonsult.se iCalcreator 2.30.10//
CALSCALE:GREGORIAN
METHOD:PUBLISH
UID:28403a4a-0108-4e9d-9168-56bd0f8ee693
X-WR-CALDESC:This Valentine's Day\, enjoy complimentary coffee and pan dulc
 e while learning how to file smarter\, stress less\, and actually understa
 nd your options when it comes to taxes with expert advice from Lenny Lizar
 di\, CPA.\n\nThis event will include:\n\n💘Tax Tips and Q&A Session\n\n💘Fre
 e Filing Resources\n\n💘Financial Guidance\n\nBecause financial literacy is
  a love language.
X-WR-RELCALID:cc8dd7853f7a20872f58ca769cad0908
X-WR-TIMEZONE:America/Phoenix
BEGIN:VTIMEZONE
TZID:America/Phoenix
BEGIN:STANDARD
TZNAME:MST
DTSTART:20240515T070000
TZOFFSETFROM:+0000
TZOFFSETTO:-0700
END:STANDARD
END:VTIMEZONE
BEGIN:VEVENT
UID:de7c3b39-a110-4d90-ba17-b053c364967f
DTSTAMP:20260420T022032Z
DESCRIPTION:This Valentine's Day\, enjoy complimentary coffee and pan dulce
  while learning how to file smarter\, stress less\, and actually understan
 d your options when it comes to taxes with expert advice from Lenny Lizard
 i\, CPA.\n\nThis event will include:\n\n💘Tax Tips and Q&A Session\n\n💘Free
  Filing Resources\n\n💘Financial Guidance\n\nBecause financial literacy is 
 a love language.
DTSTART;TZID=America/Phoenix:20260214T090000
DTEND;TZID=America/Phoenix:20260214T103000
LOCATION:17 N Linda Ave\, Tucson\, AZ 85745 US
SUMMARY:PCCLT HomeTalks: Taxes\, Coffee\, and Community
END:VEVENT
END:VCALENDAR
