BEGIN:VCALENDAR
VERSION:2.0
PRODID:-//pcclt.org//NONSGML kigkonsult.se iCalcreator 2.30.10//
CALSCALE:GREGORIAN
METHOD:PUBLISH
UID:098eabf1-8e1a-4312-9b0f-b8c2b7a03e3c
X-WR-CALDESC:Pima County Community Land Trust’s Homebuyer Education course 
 is a HUD-approved program designed to prepare individuals and families for
  successful\, sustainable homeownership. This comprehensive course covers 
 the full homebuying process\, including budgeting and credit\, mortgage fi
 nancing\, working with real estate professionals\, the home search and pur
 chase process\, inspections\, closing\, and long-term responsibilities of 
 homeownership.\n\nParticipants will gain practical tools and knowledge to 
 make informed decisions\, avoid common pitfalls\, and feel confident navig
 ating the path to buying a home. The course is facilitated by HUD-certifie
 d housing counselors who are available to answer questions and provide gui
 dance throughout the session.\n\nAttendees who complete the course will re
 ceive their Certificate of Completion at the end of the class. This certif
 icate satisfies the HUD homebuyer education requirement and is accepted by
  many lenders and down payment assistance programs.\n\n\n
X-WR-RELCALID:93dc0c68273240211f624fced21b52ca
X-WR-TIMEZONE:America/Denver
BEGIN:VTIMEZONE
TZID:America/Denver
BEGIN:STANDARD
TZNAME:MST
DTSTART:20251102T020000
TZOFFSETFROM:-0600
TZOFFSETTO:-0700
RDATE:20261101T020000
END:STANDARD
BEGIN:DAYLIGHT
TZNAME:MDT
DTSTART:20250309T020000
TZOFFSETFROM:-0700
TZOFFSETTO:-0600
RDATE:20260308T020000
RDATE:20270314T020000
END:DAYLIGHT
END:VTIMEZONE
BEGIN:VEVENT
UID:a144f178-322a-43bd-9ae4-b6c078c9eb46
DTSTAMP:20260420T022706Z
DESCRIPTION:Pima County Community Land Trust’s Homebuyer Education course i
 s a HUD-approved program designed to prepare individuals and families for 
 successful\, sustainable homeownership. This comprehensive course covers t
 he full homebuying process\, including budgeting and credit\, mortgage fin
 ancing\, working with real estate professionals\, the home search and purc
 hase process\, inspections\, closing\, and long-term responsibilities of h
 omeownership.\n\nParticipants will gain practical tools and knowledge to m
 ake informed decisions\, avoid common pitfalls\, and feel confident naviga
 ting the path to buying a home. The course is facilitated by HUD-certified
  housing counselors who are available to answer questions and provide guid
 ance throughout the session.\n\nAttendees who complete the course will rec
 eive their Certificate of Completion at the end of the class. This certifi
 cate satisfies the HUD homebuyer education requirement and is accepted by 
 many lenders and down payment assistance programs.\n\n\n
DTSTART;TZID=America/Denver:20260221T080000
DTEND;TZID=America/Denver:20260221T130000
LOCATION:17 N. Linda Ave\, Tucson\, AZ 85745 US
SUMMARY:Homebuyer Education
END:VEVENT
END:VCALENDAR
