BEGIN:VCALENDAR
VERSION:2.0
PRODID:-//pcclt.org//NONSGML kigkonsult.se iCalcreator 2.30.10//
CALSCALE:GREGORIAN
METHOD:PUBLISH
UID:7b77539a-2e25-44cc-9bbc-e3e13c32fc8e
X-WR-CALDESC:Pima County Community Land Trust invites you to a special Quin
 ceañera-style celebration honoring 15 years of affordable housing in Pima 
 County. Join us for an elegant evening of celebration\, live entertainment
 \, and great food on March 13\, 2026\, at the El Casino Ballroom in Tucson
 .\n\nThe night will also recognize our 2026 honorees: Liz Morales\, Betty 
 Villegas\, and WaFd Bank\, whose leadership and partnership have helped st
 rengthen our community.\n\nTo purchase tickets or sponsor the event\, see 
 our dedicated fundraiser page by clicking the link below.
X-WR-RELCALID:51669a86a5091e3b144639de3b25f480
X-WR-TIMEZONE:America/Denver
BEGIN:VTIMEZONE
TZID:America/Denver
BEGIN:STANDARD
TZNAME:MST
DTSTART:20251102T020000
TZOFFSETFROM:-0600
TZOFFSETTO:-0700
RDATE:20261101T020000
END:STANDARD
BEGIN:DAYLIGHT
TZNAME:MDT
DTSTART:20260308T020000
TZOFFSETFROM:-0700
TZOFFSETTO:-0600
RDATE:20270314T020000
END:DAYLIGHT
END:VTIMEZONE
BEGIN:VEVENT
UID:f9fa00d0-0e01-464c-b8a4-4c849daacd81
DTSTAMP:20260420T003926Z
DESCRIPTION:Pima County Community Land Trust invites you to a special Quinc
 eañera-style celebration honoring 15 years of affordable housing in Pima C
 ounty. Join us for an elegant evening of celebration\, live entertainment\
 , and great food on March 13\, 2026\, at the El Casino Ballroom in Tucson.
 \n\nThe night will also recognize our 2026 honorees: Liz Morales\, Betty V
 illegas\, and WaFd Bank\, whose leadership and partnership have helped str
 engthen our community.\n\nTo purchase tickets or sponsor the event\, see o
 ur dedicated fundraiser page by clicking the link below.
DTSTART;TZID=America/Denver:20260313T170000
DTEND;TZID=America/Denver:20260313T230000
LOCATION:427 E 26th Street\, Tucson\, AZ 85713 US
SUMMARY:Quinceanera Fundraiser
END:VEVENT
END:VCALENDAR
